BEGIN:VCALENDAR
VERSION:2.0
PRODID:-//CTS Receivership - ECPv5.14.0.4//NONSGML v1.0//EN
CALSCALE:GREGORIAN
METHOD:PUBLISH
X-WR-CALNAME:CTS Receivership
X-ORIGINAL-URL:https://ctsreceivership.com
X-WR-CALDESC:Events for CTS Receivership
REFRESH-INTERVAL;VALUE=DURATION:PT1H
X-Robots-Tag:noindex
X-PUBLISHED-TTL:PT1H
BEGIN:VTIMEZONE
TZID:UTC
BEGIN:STANDARD
TZOFFSETFROM:+0000
TZOFFSETTO:+0000
TZNAME:UTC
DTSTART:20210101T000000
END:STANDARD
END:VTIMEZONE
BEGIN:VEVENT
DTSTART;TZID=UTC:20211201T090000
DTEND;TZID=UTC:20211201T120000
DTSTAMP:20260423T085330
CREATED:20211117T205919Z
LAST-MODIFIED:20211129T182753Z
UID:556-1638349200-1638360000@ctsreceivership.com
SUMMARY:In re: Champlain Towers South Collapse Litigation – Status Conference Live/In-Person [Zoom Link for Victims/Family/Press Only]
DESCRIPTION:Court Location – Miami Dade Children’s Courthouse\, 155 NW 3 Street\, Miami\, Florida 33128 \nZOOM HEARING NOTIFICATION: \nThe following motion has been set for Virtual Courtroom via the Zoom platform. Use the Zoom details displayed below to appear remotely at the scheduled hearing date and time. You can use the Zoom link if accessing via any internet connected device or you can use the Zoom dial in number to appear by phone. \nThe following Virtual Hearing has been SCHEDULED: \nCategory: Special Sets\nMotion: Status Conference\nScheduled Date and Time: 12/01/21 9:00:00 AM\nScheduled Before: Michael Hanzman\nCase Number: 2021-015089-CA-01\nStyle: In Re: Champlain Towers South Collapse Litigation\nZoom Meeting ID: 96354807530\nZoom Dial In Number: +1 786-635-1003\nZoom Link: https://zoom.us/j/96354807530
URL:https://ctsreceivership.com/event/in-re-champlain-towers-south-collapse-litigation-status-conference-live-in-person-zoom-link-for-victims-family-press-only/
END:VEVENT
BEGIN:VEVENT
DTSTART;TZID=UTC:20211213T100000
DTEND;TZID=UTC:20211213T103000
DTSTAMP:20260423T085330
CREATED:20211202T004651Z
LAST-MODIFIED:20211202T004651Z
UID:567-1639389600-1639391400@ctsreceivership.com
SUMMARY:Zoom Conference to Discuss Status of Litigation
DESCRIPTION:Re: In re: Champlain Towers South Collapse Litigation\nCase Number 2021-015089-CA-01 \nDear In re: Champlain Towers South Collapse Litigation Class Members: \nOn December 13\, 2021\, at 10:00am ET\, Court appointed class action counsel will host a\nZoom meeting to discuss the status of the litigation. This meeting is open to all Champlain Towers\nSouth Litigation class members\, which includes all those with claims for property damage\,\npersonal injury\, and wrongful death. During this meeting we hope to answer many of your\nquestions about the case\, but please note that we will not be able to provide any individual legal\nadvice. Also\, our communications during this conference will be subject to the attorney-client\nprivilege. \nWe look forward to speaking with you about the litigation.\nSincerely\, \nHarley S. Tropin\nRachel W. Furst \nNotice to Champlain Towers South Collapse Litigation Putative Class Members from Class Counsel regarding Zoom Status Call to discuss status of litigation scheduled for December 13\, 2021 at 10:00 a.m. ET
URL:https://ctsreceivership.com/event/zoom-conference-to-discuss-status-of-litigation/
END:VEVENT
BEGIN:VEVENT
DTSTART;TZID=UTC:20211215T090000
DTEND;TZID=UTC:20211215T110000
DTSTAMP:20260423T085330
CREATED:20211206T215438Z
LAST-MODIFIED:20211215T000603Z
UID:569-1639558800-1639566000@ctsreceivership.com
SUMMARY:In re: Champlain Towers South Collapse Litigation - Court Status Conference (Live/In-Person) Zoom Link for Victims/Family/Press Only
DESCRIPTION:Court Location: \nMiami Children’s Courthouse\, 155 NW 3rd  Street\, Courtroom 10-1\, Miami\, Florida 33128. \nZoom Link for Victims/Family Members/Press–all others to appear in person \nThe following Virtual Hearing has been SCHEDULED: \nCategory: Special Sets\nMotion: Status Conference\nScheduled Date and Time: 12/15/21 9:00:00 AM\nScheduled Before: Michael Hanzman\nCase Number: 2021-015089-CA-01\nStyle: In Re: Champlain Towers South Collapse Litigation\nZoom Meeting ID: 92612485028\nZoom Dial In Number: +1 786-635-1003\nZoom Link: https://zoom.us/j/92612485028 \n 
URL:https://ctsreceivership.com/event/in-re-champlain-towers-south-collapse-litigation-court-status-conference-live-in-person-zoom-link-for-victims-family-press-only/
END:VEVENT
END:VCALENDAR