BEGIN:VCALENDAR
VERSION:2.0
PRODID:-//CTS Receivership - ECPv5.14.0.4//NONSGML v1.0//EN
CALSCALE:GREGORIAN
METHOD:PUBLISH
X-WR-CALNAME:CTS Receivership
X-ORIGINAL-URL:https://ctsreceivership.com
X-WR-CALDESC:Events for CTS Receivership
REFRESH-INTERVAL;VALUE=DURATION:PT1H
X-Robots-Tag:noindex
X-PUBLISHED-TTL:PT1H
BEGIN:VTIMEZONE
TZID:UTC
BEGIN:STANDARD
TZOFFSETFROM:+0000
TZOFFSETTO:+0000
TZNAME:UTC
DTSTART:20210101T000000
END:STANDARD
END:VTIMEZONE
BEGIN:VEVENT
DTSTART;TZID=UTC:20211103T090000
DTEND;TZID=UTC:20211103T120000
DTSTAMP:20260423T102840
CREATED:20211021T183650Z
LAST-MODIFIED:20211021T183650Z
UID:525-1635930000-1635940800@ctsreceivership.com
SUMMARY:In re: Champlain Towers South Collapse Litigation – Virtual Court Status Conference
DESCRIPTION:[Zoom Link Will Be Provided Once Received From The Court]
URL:https://ctsreceivership.com/event/in-re-champlain-towers-south-collapse-litigation-virtual-court-status-conference-4/
END:VEVENT
BEGIN:VEVENT
DTSTART;TZID=UTC:20211103T090000
DTEND;TZID=UTC:20211103T120000
DTSTAMP:20260423T102840
CREATED:20211027T200009Z
LAST-MODIFIED:20211027T200009Z
UID:531-1635930000-1635940800@ctsreceivership.com
SUMMARY:In re: Champlain Towers South Collapse Litigation – Virtual Court Status Conference
DESCRIPTION:The following Virtual Hearing has been SCHEDULED: \nCategory: Special Sets\nMotion: Status Conference\nScheduled Date and Time: 11/03/21 9:00:00 AM\nScheduled Before: Michael Hanzman\nCase Number: 2021-015089-CA-01\nStyle: In Re: Champlain Towers South Collapse Litigation\nZoom Meeting ID: 97849971767\nZoom Dial In Number: +1 786-635-1003\nZoom Link: https://zoom.us/j/97849971767 \n 
URL:https://ctsreceivership.com/event/in-re-champlain-towers-south-collapse-litigation-virtual-court-status-conference-5/
END:VEVENT
BEGIN:VEVENT
DTSTART;TZID=UTC:20211115T154500
DTEND;TZID=UTC:20211115T154500
DTSTAMP:20260423T102840
CREATED:20211110T054230Z
LAST-MODIFIED:20211110T054418Z
UID:547-1636991100-1636991100@ctsreceivership.com
SUMMARY:Last Day to Vote for Nominee to be considered to participate in mediation discussions by 3:45 p.m. EST
DESCRIPTION:Letter to Champlain Towers South Property Owners regarding nominees to be considered to participate in mediation discussions (Votes to be placed no later than 3:45p.m. EST on Monday\, November 15\, 2021)
URL:https://ctsreceivership.com/event/last-day-to-vote-for-nominee-to-be-considered-to-participate-in-mediation-discussions-by-345-p-m-est/
END:VEVENT
BEGIN:VEVENT
DTSTART;TZID=UTC:20211117T090000
DTEND;TZID=UTC:20211117T120000
DTSTAMP:20260423T102840
CREATED:20211109T214039Z
LAST-MODIFIED:20211116T024730Z
UID:543-1637139600-1637150400@ctsreceivership.com
SUMMARY:In re: Champlain Towers South Collapse Litigation - Status Conference  Live/In-Person [Zoom Link for Victims/Family/Press Only]
DESCRIPTION:Please be advised that a Status Conference will be held on Wednesday\, November 17\, 2021 at 9:00 a.m. before the Honorable Michael A. Hanzman in connection with the above-referenced matter.  The hearing will be held live and in person at the Miami Dade Children’s Courthouse\, 155 NW 3rd Street\, Courtroom 10-1\, Miami\, Florida. Press and victims/family may appear via Zoom. \nCategory: Special Sets\nMotion: Status\nScheduled Date and Time: 11/17/21 9:00:00 AM\nScheduled Before: Michael Hanzman\nCase Number: 2021-015089-CA-01\nStyle: In Re: Champlain Towers South Collapse Litigation\nZoom Meeting ID: 92965260336\nZoom Dial In Number: +1 786-635-1003\nZoom Link: https://zoom.us/j/92965260336
URL:https://ctsreceivership.com/event/in-re-champlain-towers-south-collapse-litigation-status-conference/
END:VEVENT
END:VCALENDAR