BEGIN:VCALENDAR
VERSION:2.0
PRODID:-//CTS Receivership - ECPv5.14.0.4//NONSGML v1.0//EN
CALSCALE:GREGORIAN
METHOD:PUBLISH
X-WR-CALNAME:CTS Receivership
X-ORIGINAL-URL:https://ctsreceivership.com
X-WR-CALDESC:Events for CTS Receivership
REFRESH-INTERVAL;VALUE=DURATION:PT1H
X-Robots-Tag:noindex
X-PUBLISHED-TTL:PT1H
BEGIN:VTIMEZONE
TZID:UTC
BEGIN:STANDARD
TZOFFSETFROM:+0000
TZOFFSETTO:+0000
TZNAME:UTC
DTSTART:20210101T000000
END:STANDARD
END:VTIMEZONE
BEGIN:VEVENT
DTSTART;TZID=UTC:20211006T090000
DTEND;TZID=UTC:20211006T120000
DTSTAMP:20260423T120254
CREATED:20210930T235928Z
LAST-MODIFIED:20210930T235928Z
UID:472-1633510800-1633521600@ctsreceivership.com
SUMMARY:In re: Champlain Towers South Collapse Litigation – Virtual Court Status Conference
DESCRIPTION:The following Virtual Hearing has been SCHEDULED: \nCategory: Special Sets\nMotion: Status Conference\nScheduled Date and Time: 10/06/21 9:00:00 AM\nScheduled Before: Michael Hanzman\nCase Number: 2021-015089-CA-01\nStyle: Manuel Drezner vs Champlain Towers South Condominium Association Inc\nZoom Meeting ID: 99447250593\nZoom Dial In Number: +1 786-635-1003\nZoom Link: https://zoom.us/j/99447250593
URL:https://ctsreceivership.com/event/in-re-champlain-towers-south-collapse-litigation-virtual-court-status-conference-2/
END:VEVENT
BEGIN:VEVENT
DTSTART;TZID=UTC:20211020T090000
DTEND;TZID=UTC:20211020T120000
DTSTAMP:20260423T120254
CREATED:20211009T014405Z
LAST-MODIFIED:20211014T195857Z
UID:503-1634720400-1634731200@ctsreceivership.com
SUMMARY:In re: Champlain Towers South Collapse Litigation – Virtual Court Status Conference
DESCRIPTION:The following Virtual Hearing has been SCHEDULED: \nCategory: Special Sets\nMotion: Status Conference\nScheduled Date and Time: 10/20/21 9:00:00 AM\nScheduled Before: Michael Hanzman\nCase Number: 2021-015089-CA-01\nStyle: In Re: Champlain Towers South Collapse Litigation\nZoom Meeting ID: 91873370729\nZoom Dial In Number: +1 786-635-1003\nZoom Link: https://zoom.us/j/91873370729 \n 
URL:https://ctsreceivership.com/event/in-re-champlain-towers-south-collapse-litigation-virtual-court-status-conference-3/
END:VEVENT
BEGIN:VEVENT
DTSTART;TZID=UTC:20211028T100000
DTEND;TZID=UTC:20211028T110000
DTSTAMP:20260423T120254
CREATED:20211027T011839Z
LAST-MODIFIED:20211027T011956Z
UID:529-1635415200-1635418800@ctsreceivership.com
SUMMARY:Unit Owners Meeting to Discuss Mediation Committee
DESCRIPTION:Letter to Champlain Towers South Unit Owners regarding Mediation Committee
URL:https://ctsreceivership.com/event/unit-owners-meeting-to-discuss-mediation-committee/
END:VEVENT
END:VCALENDAR