BEGIN:VCALENDAR
VERSION:2.0
PRODID:-//CTS Receivership - ECPv5.14.0.4//NONSGML v1.0//EN
CALSCALE:GREGORIAN
METHOD:PUBLISH
X-WR-CALNAME:CTS Receivership
X-ORIGINAL-URL:https://ctsreceivership.com
X-WR-CALDESC:Events for CTS Receivership
REFRESH-INTERVAL;VALUE=DURATION:PT1H
X-Robots-Tag:noindex
X-PUBLISHED-TTL:PT1H
BEGIN:VTIMEZONE
TZID:UTC
BEGIN:STANDARD
TZOFFSETFROM:+0000
TZOFFSETTO:+0000
TZNAME:UTC
DTSTART:20210101T000000
END:STANDARD
END:VTIMEZONE
BEGIN:VEVENT
DTSTART;TZID=UTC:20210914T190000
DTEND;TZID=UTC:20210914T220000
DTSTAMP:20260421T215912
CREATED:20210914T181107Z
LAST-MODIFIED:20210914T192242Z
UID:404-1631646000-1631656800@ctsreceivership.com
SUMMARY:Town of Surfside Commission Meeting
DESCRIPTION:https://www.townofsurfsidefl.gov/docs/default-source/default-document-library/town-clerk-documents/commission-agendas/2021-commission-agenda/2021-09-14-regular-town-commission-meeting-agenda.pdf?sfvrsn=378c1694_2
URL:https://ctsreceivership.com/event/town-of-surfside-commission-meeting/
LOCATION:Town of Surfside\, Florida\, 9293 Harding Avenue\, Surfside\, FL\, 33154\, United States
ORGANIZER;CN="Town%20of%20Surfside":MAILTO:smccready@townofsurfsidefl.gov
END:VEVENT
BEGIN:VEVENT
DTSTART;TZID=UTC:20210914T190000
DTEND;TZID=UTC:20210914T220000
DTSTAMP:20260421T215912
CREATED:20210914T072403Z
LAST-MODIFIED:20210915T002054Z
UID:401-1631646000-1631656800@ctsreceivership.com
SUMMARY:Jewish Community Center Surfside Zoom Meeting
DESCRIPTION:To obtain a copy of the Zoom Meeting Link\, you must first register with JCS.  All inquiries should be directed to JCS Access Services Department (305-576-6550) or or Director of Case Management Programs\, Sandy Ala (305-917-2162)
URL:https://ctsreceivership.com/event/jewish-community-center-surfside-zoom-meeting/
ORGANIZER;CN="Jewish%20Community%20Center%20of%20South%20Florida":MAILTO:SAla@JCSFL.org
END:VEVENT
END:VCALENDAR