BEGIN:VCALENDAR
VERSION:2.0
PRODID:-//CTS Receivership - ECPv5.14.0.4//NONSGML v1.0//EN
CALSCALE:GREGORIAN
METHOD:PUBLISH
X-WR-CALNAME:CTS Receivership
X-ORIGINAL-URL:https://ctsreceivership.com
X-WR-CALDESC:Events for CTS Receivership
REFRESH-INTERVAL;VALUE=DURATION:PT1H
X-Robots-Tag:noindex
X-PUBLISHED-TTL:PT1H
BEGIN:VTIMEZONE
TZID:UTC
BEGIN:STANDARD
TZOFFSETFROM:+0000
TZOFFSETTO:+0000
TZNAME:UTC
DTSTART:20220101T000000
END:STANDARD
TZID:America/Halifax
BEGIN:DAYLIGHT
TZOFFSETFROM:-0400
TZOFFSETTO:-0300
TZNAME:ADT
DTSTART:20230312T060000
END:DAYLIGHT
BEGIN:STANDARD
TZOFFSETFROM:-0300
TZOFFSETTO:-0400
TZNAME:AST
DTSTART:20231105T050000
END:STANDARD
END:VTIMEZONE
BEGIN:VEVENT
DTSTART;VALUE=DATE:20220826
DTEND;VALUE=DATE:20220827
DTSTAMP:20260421T124751
CREATED:20220810T212030Z
LAST-MODIFIED:20220810T212030Z
UID:1317-1661472000-1661558399@ctsreceivership.com
SUMMARY:Deadline To File Written Objection to August 2022 Settlement Agreement
DESCRIPTION:CLASS NOTICE – Additional Settlement Funds
URL:https://ctsreceivership.com/event/deadline-to-file-written-objection-to-august-2022-settlement-agreement/
END:VEVENT
BEGIN:VEVENT
DTSTART;TZID=UTC:20220829T090000
DTEND;TZID=UTC:20220829T120000
DTSTAMP:20260421T124751
CREATED:20220803T193756Z
LAST-MODIFIED:20220825T191351Z
UID:1290-1661763600-1661774400@ctsreceivership.com
SUMMARY:Evidentiary Hearing on Class Counsels' Motion for Attorneys Fees and Costs [Live-In Person/Zoom Link]
DESCRIPTION:Notice of Special Set Hearing Live/In-Person \nSua Sponte Order on Supplemental Attorneys’ Fees Applications \nLocation:   Miami-Dade Children’s Courthouse\, 155 N.W. 3rd Street\, Courtroom 9-1\, Miami\, Florida 33128. \nFor Parties/Victims attending by Zoom\, please see the Zoom link below: \nCategory: Special Sets\nMotion: Motions for Attorney’s Fees\nScheduled Date and Time: 08/29/22 9:00:00 AM\nScheduled Before: Michael Hanzman\nCase Number: 2021-015089-CA-01\nStyle: In Re: Champlain Towers South Collapse Litigation\nZoom Meeting ID: 99307940277\nZoom Dial In Number: +1 786-635-1003\nZoom Link: https://zoom.us/j/99307940277 \n 
URL:https://ctsreceivership.com/event/evidentiary-hearing-on-class-counsels-motion-for-attorneys-fees-and-costs-date-time-tbd/
END:VEVENT
BEGIN:VEVENT
DTSTART;TZID=UTC:20220829T090000
DTEND;TZID=UTC:20220829T120000
DTSTAMP:20260421T124751
CREATED:20220810T212348Z
LAST-MODIFIED:20220825T193143Z
UID:1319-1661763600-1661774400@ctsreceivership.com
SUMMARY:Fairness Hearing Regarding August 2022 Settlement Agreement [Live-In Person/Zoom Link]
DESCRIPTION:CLASS NOTICE – Additional Settlement Funds \nOrder Granting Class Plaintiffs’ Motion for Preliminary Approval of Additional Class Action Settlement and Certification of Settlement Class \nPlaintiffs’ Motion for Preliminary Approval of Additional Class Action Settlement and for Certification of Settlement Class [See Exhibit “1” for a copy of the August 2022 Settlement Agreement] \nLocation:   Miami-Dade Children’s Courthouse\, 155 N.W. 3rd Street\, Courtroom 9-1\, Miami\, Florida 33128. \nFor Parties/Victims attending by Zoom\, please see the Zoom link below: \nZoom Meeting ID: 99307940277\nZoom Dial In Number: +1 786-635-1003\nZoom Link: https://zoom.us/j/99307940277 \n 
URL:https://ctsreceivership.com/event/fairness-hearing-regarding-august-2022-settlement-agreement/
END:VEVENT
BEGIN:VEVENT
DTSTART;TZID=UTC:20230109T090000
DTEND;TZID=UTC:20230109T093000
DTSTAMP:20260421T124751
CREATED:20221212T193047Z
LAST-MODIFIED:20230118T064811Z
UID:1443-1673254800-1673256600@ctsreceivership.com
SUMMARY:Notice of Hearing [Live-In Person] [CANCELLED]
DESCRIPTION:Re-Notice of Hearing [Live-In Person] – January 3\, 2023
URL:https://ctsreceivership.com/event/notice-of-hearing-live-in-person/
END:VEVENT
BEGIN:VEVENT
DTSTART;TZID=UTC:20230118T150000
DTEND;TZID=UTC:20230118T160000
DTSTAMP:20260421T124751
CREATED:20230112T004640Z
LAST-MODIFIED:20230118T064732Z
UID:1468-1674054000-1674057600@ctsreceivership.com
SUMMARY:Notice of Hearing on Receiver's Motion to Confirm Compliance with Article 6.7 of the June 2022 Settlement Agreement in Contemplation of Distribution [CANCELLED]
DESCRIPTION:Receiver’s Motion to Confirm Compliance with Article 6.7 of the June 2022 Settlement Agreement in Contemplation of Distribution \nOrder Granting Receiver’s Unopposed Motion to Continue Hearing on Receiver’s Motion to Confirm Compliance with Article 6.7 of the Settlement Agreement in Contemplation of Distribution [Hearing rescheduled to be heard on 1/18/23 @ 3:00 p.m.] \n  \n 
URL:https://ctsreceivership.com/event/notice-of-hearings-on-receivers-motions/
END:VEVENT
BEGIN:VEVENT
DTSTART;TZID=UTC:20230217T150000
DTEND;TZID=UTC:20230217T170000
DTSTAMP:20260421T124751
CREATED:20230202T205333Z
LAST-MODIFIED:20230202T205333Z
UID:1483-1676646000-1676653200@ctsreceivership.com
SUMMARY:Notice of Hearing - Status Conference [Live-In Person / Zoom for Parties/Victims]
DESCRIPTION:Notice of Hearing (Live/in-Person) Status Conference \nZoom Link for parties/victims attending remotely: \nThe following Virtual Hearing has been SCHEDULED: \nCategory: Special Sets\nMotion: Status Conference\nScheduled Date and Time: 02/17/23 3:00:00 PM\nScheduled Before: Michael Hanzman\nCase Number: 2021-015089-CA-01\nStyle: In Re: Champlain Towers South Collapse Litigation\nZoom Meeting ID: 92547037434\nZoom Dial In Number: +1 786-635-1003\nZoom Link: https://zoom.us/j/92547037434 \n 
URL:https://ctsreceivership.com/event/notice-of-hearing-status-conference-live-in-person-zoom-for-parties-victims/
END:VEVENT
BEGIN:VEVENT
DTSTART;TZID=UTC:20230224T150000
DTEND;TZID=UTC:20230224T170000
DTSTAMP:20260421T124751
CREATED:20230220T205037Z
LAST-MODIFIED:20230221T213847Z
UID:1490-1677250800-1677258000@ctsreceivership.com
SUMMARY:Live/In-Person Court Hearing on Receiver's Proposal re: Memorial [Zoom link also provided]
DESCRIPTION:Receiver’s Motion for Authorization to Donate Potential Money Left Over After Payment of all Awards\, Taxes\, and Administrative Expenses to Fund a Memorial for the Victims \nReceiver’s Letter to Victims and Other Interested Parties \nLocation: 155 NW 3 Street\, Courtroom 2-2\, Miami\, FL [Please Note: Courtroom changed from 9-1 to 2-2 as of 2/21/23] \nThe following Virtual Hearing has been SCHEDULED: \nCategory: Special Sets\nMotion: Receiver’s Proposal re: Memorial\nScheduled Date and Time: 02/24/23 3:00:00 PM\nScheduled Before: Michael Hanzman\nCase Number: 2021-015089-CA-01\nStyle: In Re: Champlain Towers South Collapse Litigation\nZoom Meeting ID: 93149923213\nZoom Dial In Number: +1 786-635-1003\nZoom Link: https://zoom.us/j/93149923213
URL:https://ctsreceivership.com/event/live-in-person-court-hearing-on-receivers-proposal-re-memorial-zoom-link-also-provided/
END:VEVENT
BEGIN:VEVENT
DTSTART;TZID=UTC:20230331T100000
DTEND;TZID=UTC:20230331T110000
DTSTAMP:20260421T124751
CREATED:20230327T221629Z
LAST-MODIFIED:20230425T180115Z
UID:1499-1680256800-1680260400@ctsreceivership.com
SUMMARY:Notice of Hearing [Live/In-Person] **CANCELLED
DESCRIPTION:Re-Notice of Hearing 3-31-23 @ 11:00 a.m. [See Calendar for Zoom Link] \nReceiver’s Motion for Entry of an Order Approving Distribution of U.S. Currency Found at Collapse Site \nThe following Virtual Hearing has been SCHEDULED: \nCategory: Special Sets\nMotion: RECEIVERS MOTION FOR ENTRY OF AN ORDER APPROVING DISTRIBUTION OF U.S. CURRENCY FOUND AT COLLAPSE SITE AND ALL OTHER PENDING MOTIONS\nScheduled Date and Time: 03/31/23 11:00:00 AM\nScheduled Before: Michael Hanzman\nCase Number: 2021-015089-CA-01\nStyle: In Re: Champlain Towers South Collapse Litigation\nZoom Meeting ID: 91261996521\nZoom Dial In Number: +1 786-635-1003\nZoom Link: https://zoom.us/j/91261996521
URL:https://ctsreceivership.com/event/notice-of-hearing-live-in-person-2/
END:VEVENT
BEGIN:VEVENT
DTSTART;TZID=America/Halifax:20230810T090000
DTEND;TZID=America/Halifax:20230810T091500
DTSTAMP:20260421T124751
CREATED:20230809T212401Z
LAST-MODIFIED:20230810T143208Z
UID:1518-1691658000-1691658900@ctsreceivership.com
SUMMARY:Notice of Hearing (Motion Calendar)
DESCRIPTION:Notice of Hearing on Receiver’s Amended Motion for Entry of an Order Approving Distribution of U.S. Currency (DE 1053) \nReceiver’s Amended Motion for Entry of an Order Approving Distribution of U.S. Currency
URL:https://ctsreceivership.com/event/notice-of-hearing-motion-calendar-via-zoom/
END:VEVENT
BEGIN:VEVENT
DTSTART;TZID=UTC:20240404T090000
DTEND;TZID=UTC:20240404T093000
DTSTAMP:20260421T124751
CREATED:20240402T140724Z
LAST-MODIFIED:20240402T141657Z
UID:1532-1712221200-1712223000@ctsreceivership.com
SUMMARY:Notice of Hearing (Motion Calendar - Via Zoom)
DESCRIPTION:Receiver’s Motion to Distribute An Additional $4.8 Million to Victims with Awards \nZOOM INFORMATION: \nThe following Virtual Hearing has been SCHEDULED: \nCategory: Motion Calendar\nMotion: MOTION FOR STATUS CONFERENCE||RECEIVERS MOTION TO DISTRIBUTE AN ADDITIONAL 4.8 MILLION TO VICTIMS WITH AWARDS\nScheduled Date and Time: 04/04/24 9:00:00 AM\nScheduled Before: Thomas J. Rebull\nCase Number: 2021-015089-CA-01\nStyle: In Re: Champlain Towers South Collapse Litigation\nZoom Meeting ID: 95195254795\nZoom Dial In Number: +1 786-635-1003\nZoom Link: https://zoom.us/j/95195254795
URL:https://ctsreceivership.com/event/notice-of-hearing-motion-calendar-via-zoom-2/
END:VEVENT
BEGIN:VEVENT
DTSTART;TZID=UTC:20240422T090000
DTEND;TZID=UTC:20240422T093000
DTSTAMP:20260421T124751
CREATED:20240402T141423Z
LAST-MODIFIED:20240402T141448Z
UID:1538-1713776400-1713778200@ctsreceivership.com
SUMMARY:Notice of Hearing (Motion Calendar - Via Zoom)
DESCRIPTION:Receiver’s Motion To Confirm That Distribution Can Be Made Directly To Victim Who Has Turned Eighteen Subsequent to Settlement \nThe following Virtual Hearing has been SCHEDULED: \nCategory: Motion Calendar\nMotion: Receiver’s Motion to Confirm That Distribution Can Be Made Directly to Victim Who Has Turned 18 Subsequent to Settlement\nScheduled Date and Time: 04/22/24 9:00:00 AM\nScheduled Before: Thomas J. Rebull\nCase Number: 2021-015089-CA-01\nStyle: In Re: Champlain Towers South Collapse Litigation\nZoom Meeting ID: 91599384666\nZoom Dial In Number: +1 786-635-1003\nZoom Link: https://zoom.us/j/91599384666 \n 
URL:https://ctsreceivership.com/event/notice-of-hearing-motion-calendar-via-zoom-3/
END:VEVENT
END:VCALENDAR