BEGIN:VCALENDAR
VERSION:2.0
PRODID:-//CTS Receivership - ECPv5.14.0.4//NONSGML v1.0//EN
CALSCALE:GREGORIAN
METHOD:PUBLISH
X-WR-CALNAME:CTS Receivership
X-ORIGINAL-URL:https://ctsreceivership.com
X-WR-CALDESC:Events for CTS Receivership
REFRESH-INTERVAL;VALUE=DURATION:PT1H
X-Robots-Tag:noindex
X-PUBLISHED-TTL:PT1H
BEGIN:VTIMEZONE
TZID:America/Halifax
BEGIN:DAYLIGHT
TZOFFSETFROM:-0400
TZOFFSETTO:-0300
TZNAME:ADT
DTSTART:20230312T060000
END:DAYLIGHT
BEGIN:STANDARD
TZOFFSETFROM:-0300
TZOFFSETTO:-0400
TZNAME:AST
DTSTART:20231105T050000
END:STANDARD
END:VTIMEZONE
BEGIN:VEVENT
DTSTART;TZID=America/Halifax:20230810T090000
DTEND;TZID=America/Halifax:20230810T091500
DTSTAMP:20260420T140410
CREATED:20230809T212401Z
LAST-MODIFIED:20230810T143208Z
UID:1518-1691658000-1691658900@ctsreceivership.com
SUMMARY:Notice of Hearing (Motion Calendar)
DESCRIPTION:Notice of Hearing on Receiver’s Amended Motion for Entry of an Order Approving Distribution of U.S. Currency (DE 1053) \nReceiver’s Amended Motion for Entry of an Order Approving Distribution of U.S. Currency
URL:https://ctsreceivership.com/event/notice-of-hearing-motion-calendar-via-zoom/
END:VEVENT
END:VCALENDAR