BEGIN:VCALENDAR
VERSION:2.0
PRODID:-//CTS Receivership - ECPv5.14.0.4//NONSGML v1.0//EN
CALSCALE:GREGORIAN
METHOD:PUBLISH
X-WR-CALNAME:CTS Receivership
X-ORIGINAL-URL:https://ctsreceivership.com
X-WR-CALDESC:Events for CTS Receivership
REFRESH-INTERVAL;VALUE=DURATION:PT1H
X-Robots-Tag:noindex
X-PUBLISHED-TTL:PT1H
BEGIN:VTIMEZONE
TZID:UTC
BEGIN:STANDARD
TZOFFSETFROM:+0000
TZOFFSETTO:+0000
TZNAME:UTC
DTSTART:20220101T000000
END:STANDARD
END:VTIMEZONE
BEGIN:VEVENT
DTSTART;VALUE=DATE:20220826
DTEND;VALUE=DATE:20220827
DTSTAMP:20260421T110355
CREATED:20220810T212030Z
LAST-MODIFIED:20220810T212030Z
UID:1317-1661472000-1661558399@ctsreceivership.com
SUMMARY:Deadline To File Written Objection to August 2022 Settlement Agreement
DESCRIPTION:CLASS NOTICE – Additional Settlement Funds
URL:https://ctsreceivership.com/event/deadline-to-file-written-objection-to-august-2022-settlement-agreement/
END:VEVENT
END:VCALENDAR