BEGIN:VCALENDAR
VERSION:2.0
PRODID:-//CTS Receivership - ECPv5.14.0.4//NONSGML v1.0//EN
CALSCALE:GREGORIAN
METHOD:PUBLISH
X-WR-CALNAME:CTS Receivership
X-ORIGINAL-URL:https://ctsreceivership.com
X-WR-CALDESC:Events for CTS Receivership
REFRESH-INTERVAL;VALUE=DURATION:PT1H
X-Robots-Tag:noindex
X-PUBLISHED-TTL:PT1H
BEGIN:VTIMEZONE
TZID:UTC
BEGIN:STANDARD
TZOFFSETFROM:+0000
TZOFFSETTO:+0000
TZNAME:UTC
DTSTART:20220101T000000
END:STANDARD
END:VTIMEZONE
BEGIN:VEVENT
DTSTART;TZID=UTC:20220824T170000
DTEND;TZID=UTC:20220824T173000
DTSTAMP:20260421T110355
CREATED:20220811T055411Z
LAST-MODIFIED:20220811T055411Z
UID:1325-1661360400-1661362200@ctsreceivership.com
SUMMARY:Hearing on Receiver's First Omnibus Objection to Claims and Motion to Strike Claims
DESCRIPTION:Location:  Miami-Dade Childrens’ Courthouse\, 155 N.W. 3rd Street\, Courtroom 9-1\, Miami\, Florida 33128 \nOrder Setting Hearing and Granting Other Relief In Connection with Receiver’s First Omnibus Objection to Claims and Motion to Strike Claims \nReceiver’s First Omnibus Objection to Claims and Motion to Strike Claims
URL:https://ctsreceivership.com/event/hearing-on-receivers-first-omnibus-objection-to-claims-and-motion-to-strike-claims/
END:VEVENT
END:VCALENDAR