BEGIN:VCALENDAR
VERSION:2.0
PRODID:-//CTS Receivership - ECPv5.14.0.4//NONSGML v1.0//EN
CALSCALE:GREGORIAN
METHOD:PUBLISH
X-WR-CALNAME:CTS Receivership
X-ORIGINAL-URL:https://ctsreceivership.com
X-WR-CALDESC:Events for CTS Receivership
REFRESH-INTERVAL;VALUE=DURATION:PT1H
X-Robots-Tag:noindex
X-PUBLISHED-TTL:PT1H
BEGIN:VTIMEZONE
TZID:UTC
BEGIN:STANDARD
TZOFFSETFROM:+0000
TZOFFSETTO:+0000
TZNAME:UTC
DTSTART:20220101T000000
END:STANDARD
END:VTIMEZONE
BEGIN:VEVENT
DTSTART;TZID=UTC:20220623T090000
DTEND;TZID=UTC:20220623T120000
DTSTAMP:20260421T142722
CREATED:20220529T055429Z
LAST-MODIFIED:20220601T200350Z
UID:1154-1655974800-1655985600@ctsreceivership.com
SUMMARY:FINAL FAIRNESS HEARING & STATUS CONFERENCE [In-Person/Virtual]
DESCRIPTION:Notice of Special Set Hearing Live/In-Person [Status Conference & Final Fairness Hearing] Thursday\, June 23\, 2022\, 9:00 a.m. [See Calendar for Zoom Link] \nOrder Granting Class Plaintiffs’ Motion for Preliminary Approval of Class Action Settlement and Certification of the Settlement Class \nThe purposes of the Final Approval Hearing will be to consider final approval of the Settlement Agreement and entry of a Final Approval Order\, as well as a Bar Order \nIn Person Location:  Miami-Dade Children’s Courthouse\, 155 NW 3rd St\, Courtroom 9-1\, Miami\, Florida 33128 \nThe following Virtual Hearing has been SCHEDULED: \nCategory: Special Sets\nMotion: Status Conference and Final Fairness Hearing\nScheduled Date and Time: 06/23/22 9:00:00 AM\nScheduled Before: Michael Hanzman\nCase Number: 2021-015089-CA-01\nStyle: In Re: Champlain Towers South Collapse Litigation\nZoom Meeting ID: 96358263157\nZoom Dial In Number: +1 786-635-1003\nZoom Link: https://zoom.us/j/96358263157 \n  \n 
URL:https://ctsreceivership.com/event/final-approval-hearing-in-person-virtual/
END:VEVENT
END:VCALENDAR