BEGIN:VCALENDAR
VERSION:2.0
PRODID:-//CTS Receivership - ECPv5.14.0.4//NONSGML v1.0//EN
CALSCALE:GREGORIAN
METHOD:PUBLISH
X-WR-CALNAME:CTS Receivership
X-ORIGINAL-URL:https://ctsreceivership.com
X-WR-CALDESC:Events for CTS Receivership
REFRESH-INTERVAL;VALUE=DURATION:PT1H
X-Robots-Tag:noindex
X-PUBLISHED-TTL:PT1H
BEGIN:VTIMEZONE
TZID:UTC
BEGIN:STANDARD
TZOFFSETFROM:+0000
TZOFFSETTO:+0000
TZNAME:UTC
DTSTART:20220101T000000
END:STANDARD
END:VTIMEZONE
BEGIN:VEVENT
DTSTART;TZID=UTC:20220528T110000
DTEND;TZID=UTC:20220528T113000
DTSTAMP:20260421T155257
CREATED:20220528T182054Z
LAST-MODIFIED:20220528T182054Z
UID:1116-1653735600-1653737400@ctsreceivership.com
SUMMARY:Virtual/Zoom Special Set Hearing - Motion for Preliminary Approval
DESCRIPTION:Join Zoom Meeting \nhttps://urldefense.com/v3/__https://zoom.us/j/99799293526__;!!N5JibfVf!PCj-dZDZvS3ZCUanlKrKdtS4AUlYGCn2BFEg-Nu9-h-URKoHnMG_GPx4n_zkJqZ_8wIFr-bVPFnWZKpCqJl2rzPoDrsEocNWrP7T-8U$ \nMeeting ID: 997 9929 3526 \nOne tap mobile \n+17866351003\,\,99799293526# US (Miami) \n+13126266799\,\,99799293526# US (Chicago) \nDial by your location \n+1 786 635 1003 US (Miami) \n+1 312 626 6799 US (Chicago) \n+1 470 250 9358 US (Atlanta) \n+1 470 381 2552 US (Atlanta) \n+1 646 518 9805 US (New York) \n+1 646 558 8656 US (New York) \n+1 651 372 8299 US (Minnesota) \n+1 267 831 0333 US (Philadelphia) \n+1 301 715 8592 US (Washington DC) \n+1 253 215 8782 US (Tacoma) \n+1 346 248 7799 US (Houston) \n+1 602 753 0140 US (Phoenix) \n+1 669 219 2599 US (San Jose) \n+1 669 900 9128 US (San Jose) \n+1 720 928 9299 US (Denver) \n+1 971 247 1195 US (Portland) \n+1 206 337 9723 US (Seattle) \n+1 213 338 8477 US (Los Angeles) \n+48 22 398 7356 Poland \n+48 22 306 5342 Poland \n+48 22 307 3488 Poland \nMeeting ID: 997 9929 3526 \nFind your local number: https://urldefense.com/v3/__https://zoom.us/u/ac2tGhWd4Q__;!!N5JibfVf!PCj-dZDZvS3ZCUanlKrKdtS4AUlYGCn2BFEg-Nu9-h-URKoHnMG_GPx4n_zkJqZ_8wIFr-bVPFnWZKpCqJl2rzPoDrsEocNWyhEuOE0$ \nJoin by SIP \n99799293526@10.212.72.197 \nJoin by H.323 \n10.212.72.197 \nMeeting ID: 997 9929 3526 \n 
URL:https://ctsreceivership.com/event/virtual-zoom-special-set-hearing-motion-for-preliminary-approval/
END:VEVENT
END:VCALENDAR