BEGIN:VCALENDAR
VERSION:2.0
PRODID:-//CTS Receivership - ECPv5.14.0.4//NONSGML v1.0//EN
CALSCALE:GREGORIAN
METHOD:PUBLISH
X-WR-CALNAME:CTS Receivership
X-ORIGINAL-URL:https://ctsreceivership.com
X-WR-CALDESC:Events for CTS Receivership
REFRESH-INTERVAL;VALUE=DURATION:PT1H
X-Robots-Tag:noindex
X-PUBLISHED-TTL:PT1H
BEGIN:VTIMEZONE
TZID:UTC
BEGIN:STANDARD
TZOFFSETFROM:+0000
TZOFFSETTO:+0000
TZNAME:UTC
DTSTART:20220101T000000
END:STANDARD
END:VTIMEZONE
BEGIN:VEVENT
DTSTART;TZID=UTC:20220518T170000
DTEND;TZID=UTC:20220518T180000
DTSTAMP:20260421T155257
CREATED:20220518T212314Z
LAST-MODIFIED:20220518T214515Z
UID:1083-1652893200-1652896800@ctsreceivership.com
SUMMARY:Special Set Court Hearing / Status Conference by Zoom/Virtual 5-18-22 @ 5:00 p.m.
DESCRIPTION:Receiver and Putative Class Plaintiffs’ Joint Motion for Extension of Time to File Motion for Preliminary Approval of Class Settlement \nNotice of Special Set Hearing [Zoom/Virtual] 5-18-22 at 5:00 p.m. \nOrder Issuing Claim Forms \nZoom Meeting ID: 97742599997\nZoom Dial In Number: +1 786-635-1003\nZoom Link: https://zoom.us/j/97742599997
URL:https://ctsreceivership.com/event/special-set-court-hearing-status-conference-by-zoom-virtual-5-18-22-500-p-m/
END:VEVENT
END:VCALENDAR