BEGIN:VCALENDAR
VERSION:2.0
PRODID:-//CTS Receivership - ECPv5.14.0.4//NONSGML v1.0//EN
CALSCALE:GREGORIAN
METHOD:PUBLISH
X-WR-CALNAME:CTS Receivership
X-ORIGINAL-URL:https://ctsreceivership.com
X-WR-CALDESC:Events for CTS Receivership
REFRESH-INTERVAL;VALUE=DURATION:PT1H
X-Robots-Tag:noindex
X-PUBLISHED-TTL:PT1H
BEGIN:VTIMEZONE
TZID:UTC
BEGIN:STANDARD
TZOFFSETFROM:+0000
TZOFFSETTO:+0000
TZNAME:UTC
DTSTART:20220101T000000
END:STANDARD
END:VTIMEZONE
BEGIN:VEVENT
DTSTART;TZID=UTC:20220511T150000
DTEND;TZID=UTC:20220511T170000
DTSTAMP:20260421T155257
CREATED:20220418T232320Z
LAST-MODIFIED:20220510T233344Z
UID:991-1652281200-1652288400@ctsreceivership.com
SUMMARY:In re: Champlain Towers South Collapse Litigation – Court Status Conference & Hearing on Plaintiffs' Motion to Approve Claim Form [Live/In Person]
DESCRIPTION:Court’s Sua Sponte Order Rescheduling Hearings \nFiled 4/14/22 –  Plaintiffs’ Motion to Approve Claim Form \nFiled 5/10/22 –  Receiver’s Renewed Motion for Entry of an Order Authorizing Miami-Dade County to Dispose of Rubble the County has Deemed as Having Less Significant Evidentiary Value \nIn-Person Location:  Miami-Dade Children’s Courthouse\, 155 NW 3rd Street\, Courtroom 9-1\, Miami\, Florida 33128 \nZoom Link for those individuals who cannot attend in person: \nThe following Virtual Hearing has been SCHEDULED: \nCategory: Special Sets\nMotion: Status Conference and Motion for Approval and Issuance of Claims Forms\nScheduled Date and Time: 05/11/22 3:00:00 PM\nScheduled Before: Michael Hanzman\nCase Number: 2021-015089-CA-01\nStyle: In Re: Champlain Towers South Collapse Litigation\nZoom Meeting ID: 92227930732\nZoom Dial In Number: +1 786-635-1003\nZoom Link: https://zoom.us/j/92227930732
URL:https://ctsreceivership.com/event/in-re-champlain-towers-south-collapse-litigation-court-status-conference-live-in-person-4/
END:VEVENT
END:VCALENDAR