BEGIN:VCALENDAR
VERSION:2.0
PRODID:-//CTS Receivership - ECPv5.14.0.4//NONSGML v1.0//EN
CALSCALE:GREGORIAN
METHOD:PUBLISH
X-WR-CALNAME:CTS Receivership
X-ORIGINAL-URL:https://ctsreceivership.com
X-WR-CALDESC:Events for CTS Receivership
REFRESH-INTERVAL;VALUE=DURATION:PT1H
X-Robots-Tag:noindex
X-PUBLISHED-TTL:PT1H
BEGIN:VTIMEZONE
TZID:UTC
BEGIN:STANDARD
TZOFFSETFROM:+0000
TZOFFSETTO:+0000
TZNAME:UTC
DTSTART:20220101T000000
END:STANDARD
END:VTIMEZONE
BEGIN:VEVENT
DTSTART;TZID=UTC:20220504T180000
DTEND;TZID=UTC:20220504T183000
DTSTAMP:20260421T155252
CREATED:20220504T021222Z
LAST-MODIFIED:20220504T233827Z
UID:1042-1651687200-1651689000@ctsreceivership.com
SUMMARY:Notice of Special Set Hearing on Receiver's Expedited Motion to Approve Amendment to Purchase and Sale Agreement and Bidding and Sale Procedures
DESCRIPTION:Receiver’s Expedited Motion for Entry of Order Approving Amendment to (A) Purchase and Sale Agreement and (B) Bidding and Sale Procedures \nNotice of Special Set Hearing on Receiver’s Expedited Motion for Entry of Order Approving Amendment to (A) Purchase and Sale Agreement and (B) Bidding and Sale Procedures for May 4\, 2022 at 6:00 p.m. via Zoom (See Calendar for Zoom Link) \nThe following Virtual Hearing has been SCHEDULED: \nCategory: Special Sets\nMotion: Receivers Expedited Motion for Entry of Order Approving Amendment to (A) Purchase and Sale Agreement and (B) Bidding and Sale Procedures\nScheduled Date and Time: 05/04/22 6:00:00 PM\nScheduled Before: Michael Hanzman\nCase Number: 2021-015089-CA-01\nStyle: In Re: Champlain Towers South Collapse Litigation \nZoom Meeting ID: 920 4088 9370 \nZoom Dial In Number: +1 786-635-1003\nZoom Link: https://zoom.us/j/92040889370__
URL:https://ctsreceivership.com/event/notice-of-special-set-hearing-on-receivers-expedited-motion-to-approve-amendment-to-purchase-and-sale-agreement-and-bidding-and-sale-procedures/
END:VEVENT
END:VCALENDAR