BEGIN:VCALENDAR
VERSION:2.0
PRODID:-//CTS Receivership - ECPv5.14.0.4//NONSGML v1.0//EN
CALSCALE:GREGORIAN
METHOD:PUBLISH
X-WR-CALNAME:CTS Receivership
X-ORIGINAL-URL:https://ctsreceivership.com
X-WR-CALDESC:Events for CTS Receivership
REFRESH-INTERVAL;VALUE=DURATION:PT1H
X-Robots-Tag:noindex
X-PUBLISHED-TTL:PT1H
BEGIN:VTIMEZONE
TZID:UTC
BEGIN:STANDARD
TZOFFSETFROM:+0000
TZOFFSETTO:+0000
TZNAME:UTC
DTSTART:20220101T000000
END:STANDARD
END:VTIMEZONE
BEGIN:VEVENT
DTSTART;TZID=UTC:20220330T140000
DTEND;TZID=UTC:20220330T170000
DTSTAMP:20260421T173145
CREATED:20220307T170129Z
LAST-MODIFIED:20220312T023805Z
UID:821-1648648800-1648659600@ctsreceivership.com
SUMMARY:Status Conference and Final Approval Hearing re: Allocation Settlement Agreement [Live-In Person] with Zoom Link
DESCRIPTION:Location:  Miami-Dade County Children’s Courthouse 155 NW 3rd Street\, Courtroom 9-1\, Miami\, Florida 33128 \nMotion For (I) Approval Of Allocation Settlement Agreement Among Receiver\, Unit Owners\, And Wrongful Death Class; (II) Approval of Form\, Content And Manner Of Notice Of Settlement And Bar Order; (III) Entry Of Bar Order; And (IV) Scheduling A Hearing\, With Incorporated Memorandum Of Law \nThe following Virtual Hearing has been SCHEDULED: \nCategory: Special Sets\nMotion: Status Conference and Final Approval Hearing re: Allocation Settlement Agreement\nScheduled Date and Time: 03/30/22 2:00:00 PM\nScheduled Before: Michael Hanzman\nCase Number: 2021-015089-CA-01\nStyle: In Re: Champlain Towers South Collapse Litigation\nZoom Meeting ID: 94602309290\nZoom Dial In Number: +1 786-635-1003\nZoom Link: https://zoom.us/j/94602309290
URL:https://ctsreceivership.com/event/final-approval-hearing-on-allocation-settlement-agreement/
END:VEVENT
END:VCALENDAR