BEGIN:VCALENDAR
VERSION:2.0
PRODID:-//CTS Receivership - ECPv5.14.0.4//NONSGML v1.0//EN
CALSCALE:GREGORIAN
METHOD:PUBLISH
X-WR-CALNAME:CTS Receivership
X-ORIGINAL-URL:https://ctsreceivership.com
X-WR-CALDESC:Events for CTS Receivership
REFRESH-INTERVAL;VALUE=DURATION:PT1H
X-Robots-Tag:noindex
X-PUBLISHED-TTL:PT1H
BEGIN:VTIMEZONE
TZID:UTC
BEGIN:STANDARD
TZOFFSETFROM:+0000
TZOFFSETTO:+0000
TZNAME:UTC
DTSTART:20220101T000000
END:STANDARD
END:VTIMEZONE
BEGIN:VEVENT
DTSTART;TZID=UTC:20220217T140000
DTEND;TZID=UTC:20220217T170000
DTSTAMP:20260423T071832
CREATED:20220211T235907Z
LAST-MODIFIED:20220217T031213Z
UID:745-1645106400-1645117200@ctsreceivership.com
SUMMARY:In re: Champlain Towers South Collapse Litigation – Court Status Conference  ***CANCELLED***
DESCRIPTION:
URL:https://ctsreceivership.com/event/in-re-champlain-towers-south-collapse-litigation-court-status-conference-6/
END:VEVENT
END:VCALENDAR