BEGIN:VCALENDAR
VERSION:2.0
PRODID:-//CTS Receivership - ECPv5.14.0.4//NONSGML v1.0//EN
CALSCALE:GREGORIAN
METHOD:PUBLISH
X-WR-CALNAME:CTS Receivership
X-ORIGINAL-URL:https://ctsreceivership.com
X-WR-CALDESC:Events for CTS Receivership
REFRESH-INTERVAL;VALUE=DURATION:PT1H
X-Robots-Tag:noindex
X-PUBLISHED-TTL:PT1H
BEGIN:VTIMEZONE
TZID:UTC
BEGIN:STANDARD
TZOFFSETFROM:+0000
TZOFFSETTO:+0000
TZNAME:UTC
DTSTART:20220101T000000
END:STANDARD
END:VTIMEZONE
BEGIN:VEVENT
DTSTART;TZID=UTC:20220121T140000
DTEND;TZID=UTC:20220121T170000
DTSTAMP:20260423T085259
CREATED:20220118T230944Z
LAST-MODIFIED:20220118T231024Z
UID:637-1642773600-1642784400@ctsreceivership.com
SUMMARY:In re: Champlain Towers South Collapse Litigation – Court Status Conference
DESCRIPTION:ZOOM HEARING NOTIFICATION: \nThe following motion has been set for Virtual Courtroom via the Zoom platform. Use the Zoom details displayed below to appear remotely at the scheduled hearing date and time. You can use the Zoom link if accessing via any internet connected device or you can use the Zoom dial in number to appear by phone. \nThe following Virtual Hearing has been SCHEDULED: \nCategory: Special Sets\nMotion: Status Conference\nScheduled Date and Time: 01/21/22 2:00:00 PM\nScheduled Before: Michael Hanzman\nCase Number: 2021-015089-CA-01\nStyle: In Re: Champlain Towers South Collapse Litigation\nZoom Meeting ID: 91329734009\nZoom Dial In Number: +1 786-635-1003\nZoom Link: https://zoom.us/j/91329734009
URL:https://ctsreceivership.com/event/in-re-champlain-towers-south-collapse-litigation-court-status-conference-2/
END:VEVENT
END:VCALENDAR