BEGIN:VCALENDAR
VERSION:2.0
PRODID:-//CTS Receivership - ECPv5.14.0.4//NONSGML v1.0//EN
CALSCALE:GREGORIAN
METHOD:PUBLISH
X-WR-CALNAME:CTS Receivership
X-ORIGINAL-URL:https://ctsreceivership.com
X-WR-CALDESC:Events for CTS Receivership
REFRESH-INTERVAL;VALUE=DURATION:PT1H
X-Robots-Tag:noindex
X-PUBLISHED-TTL:PT1H
BEGIN:VTIMEZONE
TZID:UTC
BEGIN:STANDARD
TZOFFSETFROM:+0000
TZOFFSETTO:+0000
TZNAME:UTC
DTSTART:20210101T000000
END:STANDARD
END:VTIMEZONE
BEGIN:VEVENT
DTSTART;TZID=UTC:20211215T090000
DTEND;TZID=UTC:20211215T110000
DTSTAMP:20260423T102822
CREATED:20211206T215438Z
LAST-MODIFIED:20211215T000603Z
UID:569-1639558800-1639566000@ctsreceivership.com
SUMMARY:In re: Champlain Towers South Collapse Litigation - Court Status Conference (Live/In-Person) Zoom Link for Victims/Family/Press Only
DESCRIPTION:Court Location: \nMiami Children’s Courthouse\, 155 NW 3rd  Street\, Courtroom 10-1\, Miami\, Florida 33128. \nZoom Link for Victims/Family Members/Press–all others to appear in person \nThe following Virtual Hearing has been SCHEDULED: \nCategory: Special Sets\nMotion: Status Conference\nScheduled Date and Time: 12/15/21 9:00:00 AM\nScheduled Before: Michael Hanzman\nCase Number: 2021-015089-CA-01\nStyle: In Re: Champlain Towers South Collapse Litigation\nZoom Meeting ID: 92612485028\nZoom Dial In Number: +1 786-635-1003\nZoom Link: https://zoom.us/j/92612485028 \n 
URL:https://ctsreceivership.com/event/in-re-champlain-towers-south-collapse-litigation-court-status-conference-live-in-person-zoom-link-for-victims-family-press-only/
END:VEVENT
END:VCALENDAR