BEGIN:VCALENDAR
VERSION:2.0
PRODID:-//CTS Receivership - ECPv5.14.0.4//NONSGML v1.0//EN
CALSCALE:GREGORIAN
METHOD:PUBLISH
X-WR-CALNAME:CTS Receivership
X-ORIGINAL-URL:https://ctsreceivership.com
X-WR-CALDESC:Events for CTS Receivership
REFRESH-INTERVAL;VALUE=DURATION:PT1H
X-Robots-Tag:noindex
X-PUBLISHED-TTL:PT1H
BEGIN:VTIMEZONE
TZID:UTC
BEGIN:STANDARD
TZOFFSETFROM:+0000
TZOFFSETTO:+0000
TZNAME:UTC
DTSTART:20210101T000000
END:STANDARD
END:VTIMEZONE
BEGIN:VEVENT
DTSTART;TZID=UTC:20211028T100000
DTEND;TZID=UTC:20211028T110000
DTSTAMP:20260423T133708
CREATED:20211027T011839Z
LAST-MODIFIED:20211027T011956Z
UID:529-1635415200-1635418800@ctsreceivership.com
SUMMARY:Unit Owners Meeting to Discuss Mediation Committee
DESCRIPTION:Letter to Champlain Towers South Unit Owners regarding Mediation Committee
URL:https://ctsreceivership.com/event/unit-owners-meeting-to-discuss-mediation-committee/
END:VEVENT
END:VCALENDAR