BEGIN:VCALENDAR
VERSION:2.0
PRODID:-//CTS Receivership - ECPv5.14.0.4//NONSGML v1.0//EN
CALSCALE:GREGORIAN
METHOD:PUBLISH
X-WR-CALNAME:CTS Receivership
X-ORIGINAL-URL:https://ctsreceivership.com
X-WR-CALDESC:Events for CTS Receivership
REFRESH-INTERVAL;VALUE=DURATION:PT1H
X-Robots-Tag:noindex
X-PUBLISHED-TTL:PT1H
BEGIN:VTIMEZONE
TZID:UTC
BEGIN:STANDARD
TZOFFSETFROM:+0000
TZOFFSETTO:+0000
TZNAME:UTC
DTSTART:20210101T000000
END:STANDARD
END:VTIMEZONE
BEGIN:VEVENT
DTSTART;TZID=UTC:20210923T090000
DTEND;TZID=UTC:20210923T120000
DTSTAMP:20260423T151337
CREATED:20210923T193947Z
LAST-MODIFIED:20210923T193713Z
UID:398-1632387600-1632398400@ctsreceivership.com
SUMMARY:In re: Champlain Towers South Collapse Litigation - Court Status Conference & Receiver's Motion
DESCRIPTION:ZOOM HEARING NOTIFICATION: \nThe following motion has been set for Virtual Courtroom via the Zoom platform. Use the Zoom details displayed below to appear remotely at the scheduled hearing date and time. You can use the Zoom link if accessing via any internet connected device or you can use the Zoom dial in number to appear by phone. \nThe following Virtual Hearing has been SCHEDULED: \nCategory: Special Sets\nMotion: Status Conference & Receiver’s Omnibus Motion for Entry of Order Authorizing Receiver to Release Insurance Funds Provided by Universal Property & Casualty Insurance Co.\nScheduled Date and Time: 09/23/21 9:00:00 AM\nScheduled Before: Michael Hanzman\nCase Number: 2021-015089-CA-01\nStyle: Manuel Drezner vs Champlain Towers South Condominium Association Inc\nZoom Meeting ID: 93276556827\nZoom Dial In Number: +1 786-635-1003\nZoom Link: https://zoom.us/j/93276556827
URL:https://ctsreceivership.com/event/in-re-champlain-towers-south-collapse-litigation-virtual-court-status-conference/
END:VEVENT
END:VCALENDAR